{
 "currentVersion": 10.91,
 "serviceDescription": "Preservation/PreservationArches_JTown1_img",
 "name": "Preservation/PreservationArches_JTown1_img",
 "description": "",
 "extent": {
  "xmin": 6002855.00099104,
  "ymin": 2113596.842142248,
  "xmax": 6005061.63349679,
  "ymax": 2115194.4798655007,
  "spatialReference": {
   "wkid": 103005,
   "latestWkid": 6420
  }
 },
 "initialExtent": {
  "xmin": 6002855.00099104,
  "ymin": 2113596.842142248,
  "xmax": 6005061.63349679,
  "ymax": 2115194.4798655007,
  "spatialReference": {
   "wkid": 103005,
   "latestWkid": 6420
  }
 },
 "fullExtent": {
  "xmin": 6002855.00099104,
  "ymin": 2113596.842142248,
  "xmax": 6005061.63349679,
  "ymax": 2115194.4798655007,
  "spatialReference": {
   "wkid": 103005,
   "latestWkid": 6420
  }
 },
 "hasMultidimensions": false,
 "pixelSizeX": 0.3230794298316667,
 "pixelSizeY": 0.3588584284035586,
 "datasetFormat": "TIFF",
 "uncompressedSize": 121628640,
 "blockWidth": 6830,
 "blockHeight": 9,
 "compressionType": "LZW",
 "bandNames": [
  "Band_1",
  "Band_2",
  "Band_3",
  "Band_4"
 ],
 "allowCopy": true,
 "allowAnalysis": true,
 "bandCount": 4,
 "pixelType": "U8",
 "minPixelSize": 0,
 "maxPixelSize": 0,
 "copyrightText": "",
 "serviceDataType": "esriImageServiceDataTypeGeneric",
 "serviceSourceType": "esriImageServiceSourceTypeDataset",
 "minValues": [
  0,
  0,
  0,
  255
 ],
 "maxValues": [
  255,
  255,
  255,
  255
 ],
 "meanValues": [
  239.59061020496,
  234.32593422076,
  233.32121434559,
  255
 ],
 "stdvValues": [
  39.60772656383,
  50.985083555296,
  37.269560509301,
  0
 ],
 "objectIdField": "",
 "fields": [],
 "capabilities": "Image,Metadata,Mensuration",
 "defaultMosaicMethod": "Center",
 "allowedMosaicMethods": "",
 "sortField": "",
 "sortValue": null,
 "sortAscending": true,
 "mosaicOperator": "First",
 "defaultCompressionQuality": 75,
 "defaultResamplingMethod": "Bilinear",
 "maxImageHeight": 4100,
 "maxImageWidth": 15000,
 "allowRasterFunction": true,
 "rasterFunctionInfos": [
  {
   "name": "None",
   "description": "",
   "help": ""
  }
 ],
 "rasterTypeInfos": [
  {
   "name": "Raster Dataset",
   "description": "Supports all ArcGIS Raster Datasets",
   "help": ""
  }
 ],
 "mensurationCapabilities": "Basic",
 "hasHistograms": true,
 "hasColormap": false,
 "hasRasterAttributeTable": false,
 "minScale": 0,
 "maxScale": 0,
 "exportTilesAllowed": false,
 "supportsStatistics": false,
 "supportsAdvancedQueries": false,
 "editFieldsInfo": null,
 "ownershipBasedAccessControlForRasters": null,
 "allowComputeTiePoints": false,
 "useStandardizedQueries": true,
 "advancedQueryCapabilities": {
  "useStandardizedQueries": true,
  "supportsStatistics": false,
  "supportsOrderBy": false,
  "supportsDistinct": false,
  "supportsPagination": false
 },
 "spatialReference": {
  "wkid": 103005,
  "latestWkid": 6420
 }
}
