View In:
ArcGIS JavaScript
ArcGIS Online Map Viewer
ArcGIS Earth
ArcMap
View Footprint In:
ArcGIS Online Map Viewer
Service Description: Preservation/Arches_JTown_1972
Name: Preservation/Arches_JTown_1972
Description:
Single Fused Map Cache: false
Extent:
XMin: -1.362928436571361E7
YMin: 4548940.855547904
XMax: -1.362842680067725E7
YMax: 4549574.479573491
Spatial Reference: 102100
(3857)
Initial Extent:
XMin: -1.362928436571361E7
YMin: 4548940.855547904
XMax: -1.362842680067725E7
YMax: 4549574.479573491
Spatial Reference: 102100
(3857)
Full Extent:
XMin: -1.362928436571361E7
YMin: 4548940.855547904
XMax: -1.362842680067725E7
YMax: 4549574.479573491
Spatial Reference: 102100
(3857)
Pixel Size X: 0.1256321471374413
Pixel Size Y: 0.14229149462991073
Band Count: 4
Pixel Type: U8
RasterFunction Infos: {"rasterFunctionInfos": [{
"name": "None",
"description": "",
"help": ""
}]}
Mensuration Capabilities: Basic
Has Histograms: true
Has Colormap: false
Has Multi Dimensions : false
Rendering Rule:
Min Scale: 0
Max Scale: 0
Copyright Text:
Service Data Type: esriImageServiceDataTypeGeneric
Min Values: 0, 0, 0, 255
Max Values: 255, 255, 255, 255
Mean Values: 235.56738679449, 229.15035048154, 232.8705038837, 255
Standard Deviation Values: 42.450384193411, 55.490092397453, 42.120485942529, 0
Object ID Field:
Fields:
None
Default Mosaic Method: Center
Allowed Mosaic Methods:
SortField:
SortValue: null
Mosaic Operator: First
Default Compression Quality: 75
Default Resampling Method: Bilinear
Max Record Count: null
Max Image Height: 4100
Max Image Width: 15000
Max Download Image Count: null
Max Mosaic Image Count: null
Allow Raster Function: true
Allow Copy: true
Allow Analysis: true
Allow Compute TiePoints: false
Supports Statistics: false
Supports Advanced Queries: false
Use StandardizedQueries: true
Raster Type Infos:
Name: Raster Dataset
Description: Supports all ArcGIS Raster Datasets
Help:
Has Raster Attribute Table: false
Edit Fields Info: null
Ownership Based AccessControl For Rasters: null
Child Resources:
Info
Histograms
Statistics
Key Properties
Legend
Raster Function Infos
Supported Operations:
Export Image
Identify
Measure
Compute Histograms
Compute Statistics Histograms
Get Samples
Compute Class Statistics
Query Boundary
Compute Pixel Location
Compute Angles
Validate
Project