View In:
ArcGIS JavaScript
ArcGIS Online Map Viewer
ArcGIS Earth
ArcMap
View Footprint In:
ArcGIS Online Map Viewer
Service Description: Preservation/PreservationArches_JTown1_img
Name: Preservation/PreservationArches_JTown1_img
Description:
Single Fused Map Cache: false
Extent:
XMin: 6002855.00099104
YMin: 2113596.842142248
XMax: 6005061.63349679
YMax: 2115194.4798655007
Spatial Reference: 103005
(6420)
Initial Extent:
XMin: 6002855.00099104
YMin: 2113596.842142248
XMax: 6005061.63349679
YMax: 2115194.4798655007
Spatial Reference: 103005
(6420)
Full Extent:
XMin: 6002855.00099104
YMin: 2113596.842142248
XMax: 6005061.63349679
YMax: 2115194.4798655007
Spatial Reference: 103005
(6420)
Pixel Size X: 0.3230794298316667
Pixel Size Y: 0.3588584284035586
Band Count: 4
Pixel Type: U8
RasterFunction Infos: {"rasterFunctionInfos": [{
"name": "None",
"description": "",
"help": ""
}]}
Mensuration Capabilities: Basic
Has Histograms: true
Has Colormap: false
Has Multi Dimensions : false
Rendering Rule:
Min Scale: 0
Max Scale: 0
Copyright Text:
Service Data Type: esriImageServiceDataTypeGeneric
Min Values: 0, 0, 0, 255
Max Values: 255, 255, 255, 255
Mean Values: 239.59061020496, 234.32593422076, 233.32121434559, 255
Standard Deviation Values: 39.60772656383, 50.985083555296, 37.269560509301, 0
Object ID Field:
Fields:
None
Default Mosaic Method: Center
Allowed Mosaic Methods:
SortField:
SortValue: null
Mosaic Operator: First
Default Compression Quality: 75
Default Resampling Method: Bilinear
Max Record Count: null
Max Image Height: 4100
Max Image Width: 15000
Max Download Image Count: null
Max Mosaic Image Count: null
Allow Raster Function: true
Allow Copy: true
Allow Analysis: true
Allow Compute TiePoints: false
Supports Statistics: false
Supports Advanced Queries: false
Use StandardizedQueries: true
Raster Type Infos:
Name: Raster Dataset
Description: Supports all ArcGIS Raster Datasets
Help:
Has Raster Attribute Table: false
Edit Fields Info: null
Ownership Based AccessControl For Rasters: null
Child Resources:
Info
Histograms
Statistics
Key Properties
Legend
Raster Function Infos
Supported Operations:
Export Image
Identify
Measure
Compute Histograms
Compute Statistics Histograms
Get Samples
Compute Class Statistics
Query Boundary
Compute Pixel Location
Compute Angles
Validate
Project